BEGIN:VCALENDAR
VERSION:2.0
PRODID:-//New York/New Jersey - ECPv4.9.13//NONSGML v1.0//EN
CALSCALE:GREGORIAN
METHOD:PUBLISH
X-WR-CALNAME:New York/New Jersey
X-ORIGINAL-URL:https://nynj.adl.org
X-WR-CALDESC:Events for New York/New Jersey
BEGIN:VTIMEZONE
TZID:America/New_York
BEGIN:DAYLIGHT
TZOFFSETFROM:-0500
TZOFFSETTO:-0400
TZNAME:EDT
DTSTART:20210314T070000
END:DAYLIGHT
BEGIN:STANDARD
TZOFFSETFROM:-0400
TZOFFSETTO:-0500
TZNAME:EST
DTSTART:20211107T060000
END:STANDARD
END:VTIMEZONE
BEGIN:VEVENT
DTSTART;VALUE=DATE:20210331
DTEND;VALUE=DATE:20210401
DTSTAMP:20210603T180200
CREATED:20210412T143644Z
LAST-MODIFIED:20210420T134317Z
UID:55228-1617148800-1617235199@nynj.adl.org
SUMMARY:NYNJ Newsletter
DESCRIPTION:ADL NY/NJ March Newsletter Released \nCLICK HERE TO READ \nFEATURED IN THIS ISSUE\n– ADL’s Israel Social Cohesion Summit\n– 2020 White Supremacist Propaganda Report\n– Regional Day of Action: Speaking Up Against Anti-Asian Hate\n– Brooklyn Rally Against Hate and Asian Hate Crimes\n– ADL NY/NJ and NJ Attorney General Gurbir Grewal\n– Educational Resources\n– Upcoming Events\n– ADL NY/NJ Speaks Out \nCLICK HERE TO READ \nSign up for ADL NY/NJ’s Newsletter \n
URL:https://nynj.adl.org/event/nynj-newsletter/
CATEGORIES:Newsletter
ATTACH;FMTTYPE=image/jpeg:https://nynj.adl.org/files/2021/04/NYNJ_Insider-Slanted-e1618238736852.jpg
END:VEVENT
END:VCALENDAR