BEGIN:VCALENDAR
VERSION:2.0
PRODID:-//New York/New Jersey - ECPv4.9.13//NONSGML v1.0//EN
CALSCALE:GREGORIAN
METHOD:PUBLISH
X-WR-CALNAME:New York/New Jersey
X-ORIGINAL-URL:https://nynj.adl.org
X-WR-CALDESC:Events for New York/New Jersey
BEGIN:VTIMEZONE
TZID:America/New_York
BEGIN:DAYLIGHT
TZOFFSETFROM:-0500
TZOFFSETTO:-0400
TZNAME:EDT
DTSTART:20210314T070000
END:DAYLIGHT
BEGIN:STANDARD
TZOFFSETFROM:-0400
TZOFFSETTO:-0500
TZNAME:EST
DTSTART:20211107T060000
END:STANDARD
END:VTIMEZONE
BEGIN:VEVENT
DTSTART;TZID=America/New_York:20210602T193000
DTEND;TZID=America/New_York:20210602T200000
DTSTAMP:20210627T190753
CREATED:20210526T165928Z
LAST-MODIFIED:20210526T165928Z
UID:55720-1622662200-1622664000@nynj.adl.org
SUMMARY:GLI Lobbying Training: Nailing Your Narrative
DESCRIPTION:The Glass Leadership Institute applications for this current year is closed. If you are interested in learning more or getting involved please fill out the interest form here. \n
URL:https://nynj.adl.org/event/gli-lobbying-training-nailing-your-narrative/
CATEGORIES:Glass Leadership Institute,Lobbying
ATTACH;FMTTYPE=image/png:https://nynj.adl.org/files/2020/02/GlassLeadership_logo2018-01.png
END:VEVENT
END:VCALENDAR