BEGIN:VCALENDAR
VERSION:2.0
PRODID:-//New York/New Jersey - ECPv4.9.13//NONSGML v1.0//EN
CALSCALE:GREGORIAN
METHOD:PUBLISH
X-WR-CALNAME:New York/New Jersey
X-ORIGINAL-URL:https://nynj.adl.org
X-WR-CALDESC:Events for New York/New Jersey
BEGIN:VTIMEZONE
TZID:America/New_York
BEGIN:DAYLIGHT
TZOFFSETFROM:-0500
TZOFFSETTO:-0400
TZNAME:EDT
DTSTART:20210314T070000
END:DAYLIGHT
BEGIN:STANDARD
TZOFFSETFROM:-0400
TZOFFSETTO:-0500
TZNAME:EST
DTSTART:20211107T060000
END:STANDARD
END:VTIMEZONE
BEGIN:VEVENT
DTSTART;TZID=America/New_York:20210112T200000
DTEND;TZID=America/New_York:20210112T210000
DTSTAMP:20210614T104047
CREATED:20210106T171857Z
LAST-MODIFIED:20210113T155009Z
UID:54203-1610481600-1610485200@nynj.adl.org
SUMMARY:Webinar: United Against Racism: Pursuing Justice as a Multiracial Jewish Community
DESCRIPTION:In this moment of racial reckoning\, as our nation grapples with the insidious ways in which the legacy of slavery and institutionalized racism continues to infect our institutions and our policies\, our faith must compel us to action. Join Bet Torah\, Congregation B’nai Yisrael\, Temple Israel of Northern Westchester and Temple Shaaray Tefila of Westchester for a frank conversation with ADL regarding how we as Jews can continue to actively participate in campaigns for racial justice that have been led by communities of color\, including Jews of Color\, for decades. We will grapple with the questions of: “How can we support the Black Lives Matter movement as a multiracial Jewish community?” and “How can we resist those who seek to use antisemitism as a tool to distract and divide us in this moment”? \nCLICK HERE TO REGISTER \n
URL:https://nynj.adl.org/event/webinar-united-against-racism-pursuing-justice-as-a-multiracial-jewish-community/
ATTACH;FMTTYPE=image/png:https://nynj.adl.org/files/2021/01/Website-Image-Size-1.png
END:VEVENT
END:VCALENDAR