BEGIN:VCALENDAR
VERSION:2.0
PRODID:-//New York/New Jersey - ECPv4.9.13//NONSGML v1.0//EN
CALSCALE:GREGORIAN
METHOD:PUBLISH
X-WR-CALNAME:New York/New Jersey
X-ORIGINAL-URL:https://nynj.adl.org
X-WR-CALDESC:Events for New York/New Jersey
BEGIN:VTIMEZONE
TZID:America/New_York
BEGIN:DAYLIGHT
TZOFFSETFROM:-0500
TZOFFSETTO:-0400
TZNAME:EDT
DTSTART:20210314T070000
END:DAYLIGHT
BEGIN:STANDARD
TZOFFSETFROM:-0400
TZOFFSETTO:-0500
TZNAME:EST
DTSTART:20211107T060000
END:STANDARD
END:VTIMEZONE
BEGIN:VEVENT
DTSTART;TZID=America/New_York:20210428T190000
DTEND;TZID=America/New_York:20210428T200000
DTSTAMP:20210506T132407
CREATED:20210322T172541Z
LAST-MODIFIED:20210323T145355Z
UID:55035-1619636400-1619640000@nynj.adl.org
SUMMARY:The State of Extremism Webinar
DESCRIPTION:Join ADL’s Center on Extremism for an exclusive briefing on the state of extremism in New Jersey and the United States. From white supremacist activity to election disinformation\, Associate Director\, Aryeh Tuchman\, will present on current trends and incidents perpetrated by extremists across the ideological spectrum. \n  \nCLICK HERE TO REGISTER \n  \n*This event is part of Temple Sharey-Tefilo Israel’s partnership with ADL NY/NJ’s Signature Synagogue Program. \n
URL:https://nynj.adl.org/event/the-state-of-extremism/
CATEGORIES:Extremism,Insider Briefing,Signature Synagogue
ATTACH;FMTTYPE=image/png:https://nynj.adl.org/files/2021/03/State-of-Extremism_TSTI-e1616433568344.png
END:VEVENT
END:VCALENDAR