BEGIN:VCALENDAR
VERSION:2.0
PRODID:-//New York/New Jersey - ECPv4.9.13//NONSGML v1.0//EN
CALSCALE:GREGORIAN
METHOD:PUBLISH
X-WR-CALNAME:New York/New Jersey
X-ORIGINAL-URL:https://nynj.adl.org
X-WR-CALDESC:Events for New York/New Jersey
BEGIN:VTIMEZONE
TZID:America/New_York
BEGIN:DAYLIGHT
TZOFFSETFROM:-0500
TZOFFSETTO:-0400
TZNAME:EDT
DTSTART:20210314T070000
END:DAYLIGHT
BEGIN:STANDARD
TZOFFSETFROM:-0400
TZOFFSETTO:-0500
TZNAME:EST
DTSTART:20211107T060000
END:STANDARD
END:VTIMEZONE
BEGIN:VEVENT
DTSTART;TZID=America/New_York:20210428T120000
DTEND;TZID=America/New_York:20210428T130000
DTSTAMP:20210506T131633
CREATED:20210427T161250Z
LAST-MODIFIED:20210427T161341Z
UID:55510-1619611200-1619614800@nynj.adl.org
SUMMARY:Audit Briefing: Frontline Giving Society
DESCRIPTION:Please join us for an in depth briefing from the ADL NY/NJ staff on both the national and local findings of ADL’s Annual Audit of Antisemitic incidents. As one of ADL’s most dedicated advocates in the fight against hate\, we hope you will join us for this exclusive event. \nADL has been tracking antisemitic incidents since 1979\, and this past year was the third highest on record. The total number of incidents recorded was 2\,024\, just 83 incidents behind 2019\, the highest year ever recorded. More than half of those incidents involved harassment\, and the rest consisted mostly of vandalism and assaults. ADL’s Heat Map shows the details. \nLooking at the 50 states\, New York had more incidents than any other state with 336 incidents\, followed by New Jersey which occupies the number 2 spot with 295 incidents. These 631 incidents were tracked and responded to by ADL New York/New Jersey’s Regional Operations team\, representing an enormous commitment to fighting antisemitism in the trenches. \nWe will discuss these trends and analyze how and where our communities are being affected. Hear directly from Regional Director Scott Richman\, Deputy Regional Director Alexander Rosemberg\, Director of Community Affairs Rachel Grinspan\, and Associate Regional Director\, Alana Burman in this exclusive opportunity to learn more about ADL’s critical work and impact. \n
URL:https://nynj.adl.org/event/audit-briefing-frontline-giving-society/
CATEGORIES:antisemitism,Audit,Report,Special Event
ATTACH;FMTTYPE=image/png:https://nynj.adl.org/files/2021/04/2020-Audit-of-Antisemitic-Incident-Banner-e1619539955458.png
END:VEVENT
END:VCALENDAR