BEGIN:VCALENDAR
VERSION:2.0
PRODID:-//New York/New Jersey - ECPv4.9.13//NONSGML v1.0//EN
CALSCALE:GREGORIAN
METHOD:PUBLISH
X-WR-CALNAME:New York/New Jersey
X-ORIGINAL-URL:https://nynj.adl.org
X-WR-CALDESC:Events for New York/New Jersey
BEGIN:VTIMEZONE
TZID:America/New_York
BEGIN:DAYLIGHT
TZOFFSETFROM:-0500
TZOFFSETTO:-0400
TZNAME:EDT
DTSTART:20210314T070000
END:DAYLIGHT
BEGIN:STANDARD
TZOFFSETFROM:-0400
TZOFFSETTO:-0500
TZNAME:EST
DTSTART:20211107T060000
END:STANDARD
END:VTIMEZONE
BEGIN:VEVENT
DTSTART;TZID=America/New_York:20210427T170000
DTEND;TZID=America/New_York:20210427T180000
DTSTAMP:20210506T131959
CREATED:20210427T182705Z
LAST-MODIFIED:20210427T182705Z
UID:55515-1619542800-1619546400@nynj.adl.org
SUMMARY:Audit Briefing: ADL NY/NJ Regional Board
DESCRIPTION:ADL’s Audit of Antisemitic Incidents briefing for the ADL NY/NJ Regional Board. \nClick below to read the Audit Report. \n  \nREAD NEW JERSEY AUDIT REPORT  \nREAD NEW YORK AUDIT REPORT  \n  \n  \n
URL:https://nynj.adl.org/event/audit-briefing-adl-ny-nj-regional-board/
CATEGORIES:antisemitism,Audit,Board Meeting,Insider Briefing,Leadership,Report
ATTACH;FMTTYPE=image/png:https://nynj.adl.org/files/2021/04/2020-Audit-of-Antisemitic-Incident-Banner-e1619539955458.png
END:VEVENT
END:VCALENDAR