BEGIN:VCALENDAR
VERSION:2.0
PRODID:-//New York/New Jersey - ECPv4.9.13//NONSGML v1.0//EN
CALSCALE:GREGORIAN
METHOD:PUBLISH
X-WR-CALNAME:New York/New Jersey
X-ORIGINAL-URL:https://nynj.adl.org
X-WR-CALDESC:Events for New York/New Jersey
BEGIN:VTIMEZONE
TZID:America/New_York
BEGIN:DAYLIGHT
TZOFFSETFROM:-0500
TZOFFSETTO:-0400
TZNAME:EDT
DTSTART:20210314T070000
END:DAYLIGHT
BEGIN:STANDARD
TZOFFSETFROM:-0400
TZOFFSETTO:-0500
TZNAME:EST
DTSTART:20211107T060000
END:STANDARD
END:VTIMEZONE
BEGIN:VEVENT
DTSTART;TZID=America/New_York:20210429T180000
DTEND;TZID=America/New_York:20210429T213000
DTSTAMP:20210506T132421
CREATED:20210316T172033Z
LAST-MODIFIED:20210316T172033Z
UID:55008-1619719200-1619731800@nynj.adl.org
SUMMARY:ADL NY/NJ Education Committee Meeting
DESCRIPTION:If you are interested in being involved in ADL New York/New Jersey’s Education Committee or learning more\, please contact Nicola Straker at nstraker@adl.org. \n
URL:https://nynj.adl.org/event/adl-ny-nj-education-committee-meeting/
CATEGORIES:Committee,Education,Leadership
END:VEVENT
END:VCALENDAR